BEGIN:VCALENDAR
VERSION:2.0
PRODID:-//Iron Horse - ECPv6.15.18//NONSGML v1.0//EN
CALSCALE:GREGORIAN
METHOD:PUBLISH
X-ORIGINAL-URL:https://ironhorsetx.com
X-WR-CALDESC:Events for Iron Horse
REFRESH-INTERVAL;VALUE=DURATION:PT1H
X-Robots-Tag:noindex
X-PUBLISHED-TTL:PT1H
BEGIN:VTIMEZONE
TZID:UTC
BEGIN:STANDARD
TZOFFSETFROM:+0000
TZOFFSETTO:+0000
TZNAME:UTC
DTSTART:20250101T000000
END:STANDARD
END:VTIMEZONE
BEGIN:VEVENT
DTSTART;VALUE=DATE:20260221
DTEND;VALUE=DATE:20260222
DTSTAMP:20260422T155702
CREATED:20260115T171917Z
LAST-MODIFIED:20260115T182156Z
UID:10000003-1771632000-1771718399@ironhorsetx.com
SUMMARY:For The Love of The Game Scramble
DESCRIPTION:Register Here!
URL:https://ironhorsetx.com/event/for-the-love-of-the-game-scramble/
LOCATION:Iron Horse Golf Course\, TX\, United States
END:VEVENT
BEGIN:VEVENT
DTSTART;VALUE=DATE:20260321
DTEND;VALUE=DATE:20260322
DTSTAMP:20260422T155702
CREATED:20260122T173321Z
LAST-MODIFIED:20260122T173522Z
UID:10000006-1774051200-1774137599@ironhorsetx.com
SUMMARY:Workshop Counseling Outing
DESCRIPTION:Register Here!
URL:https://ironhorsetx.com/event/workshop-counseling-outing/
LOCATION:Iron Horse Golf Course\, TX\, United States
END:VEVENT
BEGIN:VEVENT
DTSTART;VALUE=DATE:20260408
DTEND;VALUE=DATE:20260409
DTSTAMP:20260422T155702
CREATED:20260302T201304Z
LAST-MODIFIED:20260403T190430Z
UID:10000007-1775606400-1775692799@ironhorsetx.com
SUMMARY:Par 3 Scramble
DESCRIPTION:Register Here!
URL:https://ironhorsetx.com/event/superintendents-revenge/
LOCATION:Iron Horse Golf Course\, TX\, United States
END:VEVENT
BEGIN:VEVENT
DTSTART;TZID=UTC:20260601T090000
DTEND;TZID=UTC:20260604T110000
DTSTAMP:20260422T155702
CREATED:20260422T153322Z
LAST-MODIFIED:20260422T153325Z
UID:10000009-1780304400-1780570800@ironhorsetx.com
SUMMARY:Junior Camp Week 1
DESCRIPTION:Register Here!
URL:https://ironhorsetx.com/event/junior-camp-week-1/
END:VEVENT
BEGIN:VEVENT
DTSTART;VALUE=DATE:20260613
DTEND;VALUE=DATE:20260614
DTSTAMP:20260422T155702
CREATED:20260119T205531Z
LAST-MODIFIED:20260422T152341Z
UID:10000005-1781308800-1781395199@ironhorsetx.com
SUMMARY:BBQ Open
DESCRIPTION:Register Here!
URL:https://ironhorsetx.com/event/shamrock-open/
LOCATION:Iron Horse Golf Course\, TX\, United States
END:VEVENT
END:VCALENDAR